<?xml version="1.0" encoding="UTF-8"?>
<Capabilities xmlns="http://www.opengis.net/wmts/1.0"
xmlns:ows="http://www.opengis.net/ows/1.1"
xmlns:xlink="http://www.w3.org/1999/xlink"
xmlns:xsi="http://www.w3.org/2001/XMLSchema-instance"
xmlns:gml="http://www.opengis.net/gml"
xsi:schemaLocation="http://www.opengis.net/wmts/1.0 http://schemas.opengis.net/wmts/1.0/wmtsGetCapabilities_response.xsd"
version="1.0.0">
<!-- Service Identification --> <ows:ServiceIdentification>
<ows:Title>Common_Layers_emap_land_water_tiled_HighContrast</ows:Title>
<ows:ServiceType>OGC WMTS</ows:ServiceType>
<ows:ServiceTypeVersion>1.0.0</ows:ServiceTypeVersion>
</ows:ServiceIdentification> <!-- Operations Metadata --> <ows:OperationsMetadata>
<ows:Operation name="GetCapabilities">
<ows:DCP>
<ows:HTTP>
<ows:Get xlink:href="https://tconline.co.thurston.wa.us/server/rest/services/Common_Layers/emap_land_water_tiled_HighContrast/MapServer/WMTS/1.0.0/WMTSCapabilities.xml">
<ows:Constraint name="GetEncoding">
<ows:AllowedValues>
<ows:Value>RESTful</ows:Value>
</ows:AllowedValues>
</ows:Constraint>
</ows:Get>
<!-- add KVP binding in 10.1 -->
<ows:Get xlink:href="https://tconline.co.thurston.wa.us/server/rest/services/Common_Layers/emap_land_water_tiled_HighContrast/MapServer/WMTS?">
<ows:Constraint name="GetEncoding">
<ows:AllowedValues>
<ows:Value>KVP</ows:Value>
</ows:AllowedValues>
</ows:Constraint>
</ows:Get>
</ows:HTTP>
</ows:DCP>
</ows:Operation>
<ows:Operation name="GetTile">
<ows:DCP>
<ows:HTTP>
<ows:Get xlink:href="https://tconline.co.thurston.wa.us/server/rest/services/Common_Layers/emap_land_water_tiled_HighContrast/MapServer/WMTS/tile/1.0.0/">
<ows:Constraint name="GetEncoding">
<ows:AllowedValues>
<ows:Value>RESTful</ows:Value>
</ows:AllowedValues>
</ows:Constraint>
</ows:Get>
<ows:Get xlink:href="https://tconline.co.thurston.wa.us/server/rest/services/Common_Layers/emap_land_water_tiled_HighContrast/MapServer/WMTS?">
<ows:Constraint name="GetEncoding">
<ows:AllowedValues>
<ows:Value>KVP</ows:Value>
</ows:AllowedValues>
</ows:Constraint>
</ows:Get>
</ows:HTTP>
</ows:DCP>
</ows:Operation>
</ows:OperationsMetadata> <Contents>
<!--Layer--> <Layer>
<ows:Title>Common_Layers_emap_land_water_tiled_HighContrast</ows:Title> <ows:Identifier>Common_Layers_emap_land_water_tiled_HighContrast</ows:Identifier>
<ows:BoundingBox crs="urn:ogc:def:crs:EPSG::2286">
<ows:LowerCorner>935569.1875621974 457964.9729678482</ows:LowerCorner>
<ows:UpperCorner>1216387.6111604422 711400.812551856</ows:UpperCorner>
</ows:BoundingBox> <ows:WGS84BoundingBox crs="urn:ogc:def:crs:OGC:2:84">
<ows:LowerCorner>-123.33864117142093 46.554854864746176</ows:LowerCorner>
<ows:UpperCorner>-122.18635004307951 47.271508039104006</ows:UpperCorner>
</ows:WGS84BoundingBox>
<Style isDefault="true">
<ows:Title>Default Style</ows:Title>
<ows:Identifier>default</ows:Identifier>
</Style>
<Format>image/png</Format>
<TileMatrixSetLink>
<TileMatrixSet>default028mm</TileMatrixSet>
</TileMatrixSetLink>
<ResourceURL format="image/png" resourceType="tile" template="https://tconline.co.thurston.wa.us/server/rest/services/Common_Layers/emap_land_water_tiled_HighContrast/MapServer/WMTS/tile/1.0.0/Common_Layers_emap_land_water_tiled_HighContrast/{Style}/{TileMatrixSet}/{TileMatrix}/{TileRow}/{TileCol}.png" />
</Layer> <!--TileMatrixSet-->
<TileMatrixSet>
<ows:Title>TileMatrix using 0.28mm</ows:Title>
<ows:Abstract>The tile matrix set that has scale values calculated based on the dpi defined by OGC specification (dpi assumes 0.28mm as the physical distance of a pixel).</ows:Abstract> <ows:Identifier>default028mm</ows:Identifier>
<ows:SupportedCRS>urn:ogc:def:crs:EPSG::2286</ows:SupportedCRS>
<TileMatrix>
<ows:Identifier>0</ows:Identifier>
<ScaleDenominator>944942.3660750896</ScaleDenominator>
<TopLeftCorner>-1.174983E8 2.955013105192939E12</TopLeftCorner> <TileWidth>256</TileWidth> <TileHeight>256</TileHeight>
<MatrixWidth>535</MatrixWidth> <MatrixHeight>13297557</MatrixHeight>
</TileMatrix>
<TileMatrix>
<ows:Identifier>1</ows:Identifier>
<ScaleDenominator>472471.1830375448</ScaleDenominator>
<TopLeftCorner>-1.174983E8 2.955013105192939E12</TopLeftCorner> <TileWidth>256</TileWidth> <TileHeight>256</TileHeight>
<MatrixWidth>1069</MatrixWidth> <MatrixHeight>26595114</MatrixHeight>
</TileMatrix>
<TileMatrix>
<ows:Identifier>2</ows:Identifier>
<ScaleDenominator>236235.5915187724</ScaleDenominator>
<TopLeftCorner>-1.174983E8 2.955013105192939E12</TopLeftCorner> <TileWidth>256</TileWidth> <TileHeight>256</TileHeight>
<MatrixWidth>2137</MatrixWidth> <MatrixHeight>53190228</MatrixHeight>
</TileMatrix>
<TileMatrix>
<ows:Identifier>3</ows:Identifier>
<ScaleDenominator>118117.7957593862</ScaleDenominator>
<TopLeftCorner>-1.174983E8 2.955013105192939E12</TopLeftCorner> <TileWidth>256</TileWidth> <TileHeight>256</TileHeight>
<MatrixWidth>4274</MatrixWidth> <MatrixHeight>106380456</MatrixHeight>
</TileMatrix>
<TileMatrix>
<ows:Identifier>4</ows:Identifier>
<ScaleDenominator>60476.311428805726</ScaleDenominator>
<TopLeftCorner>-1.174983E8 2.955013105192939E12</TopLeftCorner> <TileWidth>256</TileWidth> <TileHeight>256</TileHeight>
<MatrixWidth>8348</MatrixWidth> <MatrixHeight>207774327</MatrixHeight>
</TileMatrix>
<TileMatrix>
<ows:Identifier>5</ows:Identifier>
<ScaleDenominator>30238.155714402863</ScaleDenominator>
<TopLeftCorner>-1.174983E8 2.955013105192939E12</TopLeftCorner> <TileWidth>256</TileWidth> <TileHeight>256</TileHeight>
<MatrixWidth>16695</MatrixWidth> <MatrixHeight>415548654</MatrixHeight>
</TileMatrix>
<TileMatrix>
<ows:Identifier>6</ows:Identifier>
<ScaleDenominator>15119.077857201431</ScaleDenominator>
<TopLeftCorner>-1.174983E8 2.955013105192939E12</TopLeftCorner> <TileWidth>256</TileWidth> <TileHeight>256</TileHeight>
<MatrixWidth>33389</MatrixWidth> <MatrixHeight>831097308</MatrixHeight>
</TileMatrix>
<TileMatrix>
<ows:Identifier>7</ows:Identifier>
<ScaleDenominator>7559.538928600716</ScaleDenominator>
<TopLeftCorner>-1.174983E8 2.955013105192939E12</TopLeftCorner> <TileWidth>256</TileWidth> <TileHeight>256</TileHeight>
<MatrixWidth>66778</MatrixWidth> <MatrixHeight>1662194615</MatrixHeight>
</TileMatrix>
<TileMatrix>
<ows:Identifier>8</ows:Identifier>
<ScaleDenominator>3779.769464300358</ScaleDenominator>
<TopLeftCorner>-1.174983E8 2.955013105192939E12</TopLeftCorner> <TileWidth>256</TileWidth> <TileHeight>256</TileHeight>
<MatrixWidth>133555</MatrixWidth> <MatrixHeight>-2147483648</MatrixHeight>
</TileMatrix>
<TileMatrix>
<ows:Identifier>9</ows:Identifier>
<ScaleDenominator>1889.884732150179</ScaleDenominator>
<TopLeftCorner>-1.174983E8 2.955013105192939E12</TopLeftCorner> <TileWidth>256</TileWidth> <TileHeight>256</TileHeight>
<MatrixWidth>267109</MatrixWidth> <MatrixHeight>-2147483648</MatrixHeight>
</TileMatrix>
<TileMatrix>
<ows:Identifier>10</ows:Identifier>
<ScaleDenominator>944.9423660750895</ScaleDenominator>
<TopLeftCorner>-1.174983E8 2.955013105192939E12</TopLeftCorner> <TileWidth>256</TileWidth> <TileHeight>256</TileHeight>
<MatrixWidth>534217</MatrixWidth> <MatrixHeight>-2147483648</MatrixHeight>
</TileMatrix>
<TileMatrix>
<ows:Identifier>11</ows:Identifier>
<ScaleDenominator>472.47118303754473</ScaleDenominator>
<TopLeftCorner>-1.174983E8 2.955013105192939E12</TopLeftCorner> <TileWidth>256</TileWidth> <TileHeight>256</TileHeight>
<MatrixWidth>1068433</MatrixWidth> <MatrixHeight>-2147483648</MatrixHeight>
</TileMatrix>
<TileMatrix>
<ows:Identifier>12</ows:Identifier>
<ScaleDenominator>236.23559151877237</ScaleDenominator>
<TopLeftCorner>-1.174983E8 2.955013105192939E12</TopLeftCorner> <TileWidth>256</TileWidth> <TileHeight>256</TileHeight>
<MatrixWidth>2136865</MatrixWidth> <MatrixHeight>-2147483648</MatrixHeight>
</TileMatrix>
<TileMatrix>
<ows:Identifier>13</ows:Identifier>
<ScaleDenominator>118.11779575938618</ScaleDenominator>
<TopLeftCorner>-1.174983E8 2.955013105192939E12</TopLeftCorner> <TileWidth>256</TileWidth> <TileHeight>256</TileHeight>
<MatrixWidth>4273729</MatrixWidth> <MatrixHeight>-2147483648</MatrixHeight>
</TileMatrix>
</TileMatrixSet>
</Contents>
<ServiceMetadataURL xlink:href="https://tconline.co.thurston.wa.us/server/rest/services/Common_Layers/emap_land_water_tiled_HighContrast/MapServer/WMTS/1.0.0/WMTSCapabilities.xml" /> </Capabilities>
